BEGIN:VCALENDAR
VERSION:2.0
PRODID:-//Ronnie Smith Ministries - ECPv6.15.20//NONSGML v1.0//EN
CALSCALE:GREGORIAN
METHOD:PUBLISH
X-ORIGINAL-URL:https://ronniesmith.org
X-WR-CALDESC:Events for Ronnie Smith Ministries
REFRESH-INTERVAL;VALUE=DURATION:PT1H
X-Robots-Tag:noindex
X-PUBLISHED-TTL:PT1H
BEGIN:VTIMEZONE
TZID:UTC
BEGIN:STANDARD
TZOFFSETFROM:+0000
TZOFFSETTO:+0000
TZNAME:UTC
DTSTART:20250101T000000
END:STANDARD
END:VTIMEZONE
BEGIN:VEVENT
DTSTART;VALUE=DATE:20260301
DTEND;VALUE=DATE:20260305
DTSTAMP:20260424T000019
CREATED:20251122T173427Z
LAST-MODIFIED:20260216T212143Z
UID:1793-1772323200-1772668799@ronniesmith.org
SUMMARY:Revival at Liberty Baptist Church in Talassee\, AL
DESCRIPTION:Join us for a powerful time at Liberty Baptist Church as we gather for Revival Services!We are excited to welcome our guest speaker\, Evangelist Ronnie Smith\, who will be bringing a timely and Spirit-filled message each night. March 1–4 6:30 PM nightly Liberty Baptist ChurchCome expecting heartfelt worship\, biblical preaching\, and a move of God in our hearts and community. Whether you need encouragement\, direction\, restoration\, or simply a deeper walk with the Lord… these nights are for you.Bring your family. Invite a friend. Come ready for revival!
URL:https://ronniesmith.org/event/revival-at-liberty-baptist-church-in-talassee-al/
CATEGORIES:Revival-Renewal Meetings
END:VEVENT
END:VCALENDAR