BEGIN:VCALENDAR
VERSION:2.0
PRODID:-//Ronnie Smith Ministries - ECPv6.15.20//NONSGML v1.0//EN
CALSCALE:GREGORIAN
METHOD:PUBLISH
X-ORIGINAL-URL:https://ronniesmith.org
X-WR-CALDESC:Events for Ronnie Smith Ministries
REFRESH-INTERVAL;VALUE=DURATION:PT1H
X-Robots-Tag:noindex
X-PUBLISHED-TTL:PT1H
BEGIN:VTIMEZONE
TZID:UTC
BEGIN:STANDARD
TZOFFSETFROM:+0000
TZOFFSETTO:+0000
TZNAME:UTC
DTSTART:20240101T000000
END:STANDARD
END:VTIMEZONE
BEGIN:VEVENT
DTSTART;VALUE=DATE:20251109
DTEND;VALUE=DATE:20251114
DTSTAMP:20260424T065459
CREATED:20250621T194820Z
LAST-MODIFIED:20250621T194820Z
UID:1774-1762646400-1763078399@ronniesmith.org
SUMMARY:Hickory Ridge Baptist Church (Florence\, MS)
DESCRIPTION:
URL:https://ronniesmith.org/event/hickory-ridge-baptist-church-florence-ms/
LOCATION:Hickory Ridge Baptist Church\, 319 Hickory Ridge Rd\, Florence\, MS\, 39073\, United States
CATEGORIES:Revival-Renewal Meetings
END:VEVENT
END:VCALENDAR