BEGIN:VCALENDAR
VERSION:2.0
PRODID:-//Ronnie Smith Ministries - ECPv6.15.20//NONSGML v1.0//EN
CALSCALE:GREGORIAN
METHOD:PUBLISH
X-WR-CALNAME:Ronnie Smith Ministries
X-ORIGINAL-URL:https://ronniesmith.org
X-WR-CALDESC:Events for Ronnie Smith Ministries
REFRESH-INTERVAL;VALUE=DURATION:PT1H
X-Robots-Tag:noindex
X-PUBLISHED-TTL:PT1H
BEGIN:VTIMEZONE
TZID:UTC
BEGIN:STANDARD
TZOFFSETFROM:+0000
TZOFFSETTO:+0000
TZNAME:UTC
DTSTART:20240101T000000
END:STANDARD
END:VTIMEZONE
BEGIN:VEVENT
DTSTART;VALUE=DATE:20250519
DTEND;VALUE=DATE:20250522
DTSTAMP:20260424T163301
CREATED:20250422T215824Z
LAST-MODIFIED:20250422T215824Z
UID:1733-1747612800-1747871999@ronniesmith.org
SUMMARY:Revival
DESCRIPTION:Ronnie will be preaching and John will be leading worship
URL:https://ronniesmith.org/event/revival/
CATEGORIES:Revival-Renewal Meetings
END:VEVENT
END:VCALENDAR