BEGIN:VCALENDAR
VERSION:2.0
PRODID:-//Ronnie Smith Ministries - ECPv6.15.20//NONSGML v1.0//EN
CALSCALE:GREGORIAN
METHOD:PUBLISH
X-WR-CALNAME:Ronnie Smith Ministries
X-ORIGINAL-URL:https://ronniesmith.org
X-WR-CALDESC:Events for Ronnie Smith Ministries
REFRESH-INTERVAL;VALUE=DURATION:PT1H
X-Robots-Tag:noindex
X-PUBLISHED-TTL:PT1H
BEGIN:VTIMEZONE
TZID:UTC
BEGIN:STANDARD
TZOFFSETFROM:+0000
TZOFFSETTO:+0000
TZNAME:UTC
DTSTART:20230101T000000
END:STANDARD
END:VTIMEZONE
BEGIN:VEVENT
DTSTART;VALUE=DATE:20241020
DTEND;VALUE=DATE:20241023
DTSTAMP:20260425T023701
CREATED:20240915T195736Z
LAST-MODIFIED:20240915T200041Z
UID:1634-1729382400-1729641599@ronniesmith.org
SUMMARY:Fall Harvest Fest and Revival
DESCRIPTION:  \nSunday Morning Bible Study: 9:45 a.m. \nWorship: 11 a.m. \nBBQ dinner and fellowship on the grounds after morning services \nEvening Worship (Sunday thru Tuesday) 7 p.m. \n 
URL:https://ronniesmith.org/event/fall-harvest-fest-and-revival/
LOCATION:Grassy Creek Baptist Church\, 16935 Hwy. YY\, Louisiana\, MO\, United States
CATEGORIES:Revival-Renewal Meetings
END:VEVENT
BEGIN:VEVENT
DTSTART;TZID=UTC:20241027T110000
DTEND;TZID=UTC:20241027T130000
DTSTAMP:20260425T023701
CREATED:20240924T223554Z
LAST-MODIFIED:20241008T221135Z
UID:1647-1730026800-1730034000@ronniesmith.org
SUMMARY:Homecoming at New Home Baptist Church
DESCRIPTION:
URL:https://ronniesmith.org/event/new-home-baptist-church/
LOCATION:New Home Baptist Church\, 405 E Hampton Springs Ave\, Perry\, GA\, United States
CATEGORIES:Revival-Renewal Meetings
END:VEVENT
END:VCALENDAR