BEGIN:VCALENDAR
VERSION:2.0
PRODID:-//Ronnie Smith Ministries - ECPv6.15.20//NONSGML v1.0//EN
CALSCALE:GREGORIAN
METHOD:PUBLISH
X-WR-CALNAME:Ronnie Smith Ministries
X-ORIGINAL-URL:https://ronniesmith.org
X-WR-CALDESC:Events for Ronnie Smith Ministries
REFRESH-INTERVAL;VALUE=DURATION:PT1H
X-Robots-Tag:noindex
X-PUBLISHED-TTL:PT1H
BEGIN:VTIMEZONE
TZID:UTC
BEGIN:STANDARD
TZOFFSETFROM:+0000
TZOFFSETTO:+0000
TZNAME:UTC
DTSTART:20230101T000000
END:STANDARD
END:VTIMEZONE
BEGIN:VEVENT
DTSTART;VALUE=DATE:20240922
DTEND;VALUE=DATE:20240926
DTSTAMP:20260425T041704
CREATED:20240907T161933Z
LAST-MODIFIED:20240907T161933Z
UID:1619-1726963200-1727308799@ronniesmith.org
SUMMARY:Mount Zion Baptist Church
DESCRIPTION:
URL:https://ronniesmith.org/event/mount-zion-baptist-church/
LOCATION:Mount Zion Baptist Church\, 4013 GA Hwy 358\, Danville\, GA\, 31017\, United States
CATEGORIES:Revival-Renewal Meetings
END:VEVENT
END:VCALENDAR