BEGIN:VCALENDAR
VERSION:2.0
PRODID:-//Ronnie Smith Ministries - ECPv6.15.20//NONSGML v1.0//EN
CALSCALE:GREGORIAN
METHOD:PUBLISH
X-WR-CALNAME:Ronnie Smith Ministries
X-ORIGINAL-URL:https://ronniesmith.org
X-WR-CALDESC:Events for Ronnie Smith Ministries
REFRESH-INTERVAL;VALUE=DURATION:PT1H
X-Robots-Tag:noindex
X-PUBLISHED-TTL:PT1H
BEGIN:VTIMEZONE
TZID:UTC
BEGIN:STANDARD
TZOFFSETFROM:+0000
TZOFFSETTO:+0000
TZNAME:UTC
DTSTART:20230101T000000
END:STANDARD
END:VTIMEZONE
BEGIN:VEVENT
DTSTART;VALUE=DATE:20260327
DTEND;VALUE=DATE:20260330
DTSTAMP:20260423T185921
CREATED:20251122T173952Z
LAST-MODIFIED:20260216T214404Z
UID:1800-1774569600-1774828799@ronniesmith.org
SUMMARY:Men's Conference at Simmons Loop Baptist Church - Riverview\, FL
DESCRIPTION:2026 Men’s Conference   March 27 + 28Speaker: Ronnie Smith$35 per personMen Only | Friday\, March 27 | 07:00PM | Dinner ProvidedMen Only | Saturday\, March 28 | 08:00AM | Breakfast ProvidedSunday\, March 29 | A Special Message For EveryoneMen\, register here: https://onrealm.org/SimmonsL…/PublicRegistrations/Event… 
URL:https://ronniesmith.org/event/simmons-loop-baptist-church-riverview-fl/
LOCATION:Simmons Loop Baptist Church\, 6610 Simmons Loop\, Riverview\, FL\, 33578\, United States
CATEGORIES:Preaching,Sportsmen's Banquets
END:VEVENT
BEGIN:VEVENT
DTSTART;TZID=UTC:20251102T110000
DTEND;TZID=UTC:20251102T120000
DTSTAMP:20260423T185921
CREATED:20251023T182300Z
LAST-MODIFIED:20251023T182300Z
UID:1786-1762081200-1762084800@ronniesmith.org
SUMMARY:FBC Alamo\, GA
DESCRIPTION:
URL:https://ronniesmith.org/event/fbc-alamo-ga/
LOCATION:AL
CATEGORIES:Preaching
END:VEVENT
BEGIN:VEVENT
DTSTART;TZID=UTC:20250810T104500
DTEND;TZID=UTC:20250810T120000
DTSTAMP:20260423T185921
CREATED:20250621T185809Z
LAST-MODIFIED:20250621T185809Z
UID:1756-1754822700-1754827200@ronniesmith.org
SUMMARY:Liberty Baptist Church
DESCRIPTION:Ronnie will be preaching at the morning service.
URL:https://ronniesmith.org/event/liberty-baptist-church/
LOCATION:Liberty Baptist Church\, 574 Liberty Rd\, Tallassee\, AL\, 36078\, United States
CATEGORIES:Preaching
END:VEVENT
BEGIN:VEVENT
DTSTART;TZID=UTC:20250713T100000
DTEND;TZID=UTC:20250713T110000
DTSTAMP:20260423T185921
CREATED:20250621T184901Z
LAST-MODIFIED:20250621T184901Z
UID:1748-1752400800-1752404400@ronniesmith.org
SUMMARY:Pine Grove Baptist Church
DESCRIPTION:Ronnie will be preaching the morning service.
URL:https://ronniesmith.org/event/pine-grove-baptist-church-3/
LOCATION:Pine Grove Baptist Church\, 7900 Hwy 280 East\, Reidsville\, GA\, 30453\, United States
CATEGORIES:Preaching
END:VEVENT
BEGIN:VEVENT
DTSTART;TZID=UTC:20250706T100000
DTEND;TZID=UTC:20250706T110000
DTSTAMP:20260423T185921
CREATED:20250621T184508Z
LAST-MODIFIED:20250621T184508Z
UID:1745-1751796000-1751799600@ronniesmith.org
SUMMARY:Pine Grove Baptist Church
DESCRIPTION:Ronnie preaching will be preaching Sunday morning service.
URL:https://ronniesmith.org/event/pine-grove-baptist-church-2/
LOCATION:Pine Grove Baptist Church\, 7900 Hwy 280 East\, Reidsville\, GA\, 30453\, United States
CATEGORIES:Preaching
END:VEVENT
BEGIN:VEVENT
DTSTART;TZID=UTC:20250608T180000
DTEND;TZID=UTC:20250608T190000
DTSTAMP:20260423T185921
CREATED:20250523T234326Z
LAST-MODIFIED:20250523T234326Z
UID:1740-1749405600-1749409200@ronniesmith.org
SUMMARY:Lyons First Baptist - evening service
DESCRIPTION:Ronnie will be preaching the evening service.
URL:https://ronniesmith.org/event/lyons-first-baptist-evening-service/
LOCATION:Lyons First Baptist Church\, 144 S Washington Street\, Lyons\, Georgia\, 30436\, United States
CATEGORIES:Preaching
END:VEVENT
BEGIN:VEVENT
DTSTART;TZID=UTC:20250105T101500
DTEND;TZID=UTC:20250105T113000
DTSTAMP:20260423T185921
CREATED:20241225T183913Z
LAST-MODIFIED:20241225T183913Z
UID:1702-1736072100-1736076600@ronniesmith.org
SUMMARY:Mount Vernon First Baptist Church
DESCRIPTION:preaching the 10:15 service
URL:https://ronniesmith.org/event/mount-vernon-first-baptist-church/
LOCATION:Mount Vernon First Baptist Church\, 120 South Railroad Ave\, Mount Vernon\, GA\, 30445\, United States
CATEGORIES:Preaching
END:VEVENT
BEGIN:VEVENT
DTSTART;TZID=UTC:20240803T080000
DTEND;TZID=UTC:20240804T170000
DTSTAMP:20260423T185921
CREATED:20240728T194207Z
LAST-MODIFIED:20240728T194919Z
UID:1612-1722672000-1722790800@ronniesmith.org
SUMMARY:Back-to-School Pep Rally
DESCRIPTION:Princeton\, KY — Back-to-School Pep Ralley and Preaching
URL:https://ronniesmith.org/event/back-to-school-pep-rally/
LOCATION:AL
CATEGORIES:Preaching
END:VEVENT
BEGIN:VEVENT
DTSTART;TZID=UTC:20240602T130000
DTEND;TZID=UTC:20240602T160000
DTSTAMP:20260423T185921
CREATED:20240529T231737Z
LAST-MODIFIED:20240529T231800Z
UID:1547-1717333200-1717344000@ronniesmith.org
SUMMARY:Preaching Test
DESCRIPTION:
URL:https://ronniesmith.org/event/preaching-test/
LOCATION:Lyons First Baptist Church\, 144 S Washington Street\, Lyons\, Georgia\, 30436\, United States
CATEGORIES:Preaching
END:VEVENT
END:VCALENDAR