BEGIN:VCALENDAR
VERSION:2.0
PRODID:-//Ronnie Smith Ministries - ECPv6.15.20//NONSGML v1.0//EN
CALSCALE:GREGORIAN
METHOD:PUBLISH
X-WR-CALNAME:Ronnie Smith Ministries
X-ORIGINAL-URL:https://ronniesmith.org
X-WR-CALDESC:Events for Ronnie Smith Ministries
REFRESH-INTERVAL;VALUE=DURATION:PT1H
X-Robots-Tag:noindex
X-PUBLISHED-TTL:PT1H
BEGIN:VTIMEZONE
TZID:UTC
BEGIN:STANDARD
TZOFFSETFROM:+0000
TZOFFSETTO:+0000
TZNAME:UTC
DTSTART:20240101T000000
END:STANDARD
END:VTIMEZONE
BEGIN:VEVENT
DTSTART;TZID=UTC:20250706T100000
DTEND;TZID=UTC:20250706T110000
DTSTAMP:20260424T095459
CREATED:20250621T184508Z
LAST-MODIFIED:20250621T184508Z
UID:1745-1751796000-1751799600@ronniesmith.org
SUMMARY:Pine Grove Baptist Church
DESCRIPTION:Ronnie preaching will be preaching Sunday morning service.
URL:https://ronniesmith.org/event/pine-grove-baptist-church-2/
LOCATION:Pine Grove Baptist Church\, 7900 Hwy 280 East\, Reidsville\, GA\, 30453\, United States
CATEGORIES:Preaching
END:VEVENT
BEGIN:VEVENT
DTSTART;TZID=UTC:20250713T100000
DTEND;TZID=UTC:20250713T110000
DTSTAMP:20260424T095459
CREATED:20250621T184901Z
LAST-MODIFIED:20250621T184901Z
UID:1748-1752400800-1752404400@ronniesmith.org
SUMMARY:Pine Grove Baptist Church
DESCRIPTION:Ronnie will be preaching the morning service.
URL:https://ronniesmith.org/event/pine-grove-baptist-church-3/
LOCATION:Pine Grove Baptist Church\, 7900 Hwy 280 East\, Reidsville\, GA\, 30453\, United States
CATEGORIES:Preaching
END:VEVENT
END:VCALENDAR