BEGIN:VCALENDAR
VERSION:2.0
PRODID:-//Ronnie Smith Ministries - ECPv6.15.20//NONSGML v1.0//EN
CALSCALE:GREGORIAN
METHOD:PUBLISH
X-WR-CALNAME:Ronnie Smith Ministries
X-ORIGINAL-URL:https://ronniesmith.org
X-WR-CALDESC:Events for Ronnie Smith Ministries
REFRESH-INTERVAL;VALUE=DURATION:PT1H
X-Robots-Tag:noindex
X-PUBLISHED-TTL:PT1H
BEGIN:VTIMEZONE
TZID:UTC
BEGIN:STANDARD
TZOFFSETFROM:+0000
TZOFFSETTO:+0000
TZNAME:UTC
DTSTART:20230101T000000
END:STANDARD
END:VTIMEZONE
BEGIN:VEVENT
DTSTART;VALUE=DATE:20250807
DTEND;VALUE=DATE:20250810
DTSTAMP:20260424T035756
CREATED:20250621T185427Z
LAST-MODIFIED:20250621T185427Z
UID:1754-1754524800-1754783999@ronniesmith.org
SUMMARY:Men's Conference in Florence\, MS
DESCRIPTION:
URL:https://ronniesmith.org/event/mens-conference-in-florence-ms/
CATEGORIES:Men's Conference
END:VEVENT
BEGIN:VEVENT
DTSTART;TZID=UTC:20240607T230000
DTEND;TZID=UTC:20240608T013000
DTSTAMP:20260424T035756
CREATED:20240529T232004Z
LAST-MODIFIED:20240529T232005Z
UID:1552-1717801200-1717810200@ronniesmith.org
SUMMARY:Men's Conference Test
DESCRIPTION:
URL:https://ronniesmith.org/event/mens-conference-test/
CATEGORIES:Men's Conference
END:VEVENT
END:VCALENDAR